BEGIN:VCALENDAR
VERSION:2.0
PRODID:Stripo.email
BEGIN:VEVENT
UID:supporting-event-hktdc-hong-kong-international-licensing-show-944
DTSTAMP:20260420T094322
SUMMARY:支持活動 - 香港貿發局香港國際授權展
DESCRIPTION:費用：免費
LOCATION:香港會議展覽中心 (展覽廳5FG)
CLASS:PUBLIC
DTSTART:20250428T000000
DTEND:20250430T000000
END:VEVENT
END:VCALENDAR