BEGIN:VCALENDAR
VERSION:2.0
PRODID:Stripo.email
BEGIN:VEVENT
UID:rosewood-foundation-entrepreneurship-award-38
DTSTAMP:20260425T175137
SUMMARY:支持活動 - 2025 瑰麗慈善基金創業家大獎
DESCRIPTION:費用：免費
CLASS:PUBLIC
DTSTART:20241030T000000
DTEND:20241129T000000
END:VEVENT
END:VCALENDAR