BEGIN:VCALENDAR
VERSION:2.0
PRODID:Stripo.email
BEGIN:VEVENT
UID:qeeboo-rabbit-chair-by-stefano-giovannoni-1127
DTSTAMP:20260421T094435
SUMMARY:「兔伴霓裳」
DESCRIPTION:時間：星期一、三至日：11:00 - 19:00 （公眾假期照常開放）；逢星期二（公眾假期除外）休館; 費用：免費
LOCATION:九龍深水埗通州街280號DX設計館2樓展台
CLASS:PUBLIC
DTSTART:20251211T000000
DTEND:20260407T000000
END:VEVENT
END:VCALENDAR