BEGIN:VCALENDAR
VERSION:2.0
PRODID:Stripo.email
BEGIN:VEVENT
UID:play-pose-pixel-digital-fashion-exhibition-1116
DTSTAMP:20260423T161152
SUMMARY:Play, Pose & Pixel起勢·玩：數碼時裝展
DESCRIPTION:時間：星期一至四：中午12時至晚上8時 / 星期五至日：上午11時至晚上9時; 費用：免費入場
LOCATION:九龍啟德AIRSIDE三樓GATE33藝文館 
CLASS:PUBLIC
DTSTART:20251122T000000
DTEND:20251202T000000
END:VEVENT
END:VCALENDAR