BEGIN:VCALENDAR
VERSION:2.0
PRODID:Stripo.email
BEGIN:VEVENT
UID:lunar-new-year-lion-dance-performance-925
DTSTAMP:20260424T185005
SUMMARY:蛇年迎春醒獅表演
DESCRIPTION:時間：15:30 - 16:00; 費用：免費
LOCATION:The Square, G/F, DX design hub, 280 Tung Chau Street, Sham Shui Po, Kowloon
CLASS:PUBLIC
DTSTART:20250203T000000
DTEND:20250203T000000
END:VEVENT
END:VCALENDAR