BEGIN:VCALENDAR
VERSION:2.0
PRODID:Stripo.email
BEGIN:VEVENT
UID:finger-skateboard-painting-1140
DTSTAMP:20260420T095447
SUMMARY:【工作坊】畫一畫手指滑板
DESCRIPTION:時間：14:00 - 16:00; 費用：HK$90
LOCATION:九龍深水埗通州街280號DX設計館3樓滙講堂
CLASS:PUBLIC
DTSTART:20260117T000000
DTEND:20260404T000000
END:VEVENT
END:VCALENDAR