BEGIN:VCALENDAR
VERSION:2.0
PRODID:Stripo.email
BEGIN:VEVENT
UID:everyday-plus-exhibition-curatorial-guided-tours-1018
DTSTAMP:20260420T083323
SUMMARY:「 Everyday+」展覽: 常物公眾導賞團
DESCRIPTION:時間：15:00 - 16:00; 17:00 - 18:00; 費用：免費
LOCATION:九龍深水埗通州街280號DX設計館地下前館
CLASS:PUBLIC
DTSTART:20250628T000000
DTEND:20250823T000000
END:VEVENT
END:VCALENDAR