BEGIN:VCALENDAR
VERSION:2.0
PRODID:Stripo.email
BEGIN:VEVENT
UID:easter-stamp-carving-workshop-976
DTSTAMP:20260421T180554
SUMMARY:復活節雕刻印章工作坊
DESCRIPTION:時間：14:30 - 16:30; 費用：免費
LOCATION:深水埗通州街280號DX設計館3樓滙館
CLASS:PUBLIC
DTSTART:20250419T000000
DTEND:20250419T000000
END:VEVENT
END:VCALENDAR