BEGIN:VCALENDAR
VERSION:2.0
PRODID:Stripo.email
BEGIN:VEVENT
UID:dx-design-hub-recycled-glass-fai-chun-workshop-1145
DTSTAMP:20260420T154938
SUMMARY:【DX設計館】新年祝福：再生玻璃揮春工作坊
DESCRIPTION:時間：14:00 - 16:00; 費用：【30/1前報名 早鳥優惠】港幣50元 (原價 港幣80元)
LOCATION:九龍深水埗通州街280號DX設計館2樓別館
CLASS:PUBLIC
DTSTART:20260131T000000
DTEND:20260131T000000
END:VEVENT
END:VCALENDAR