BEGIN:VCALENDAR
VERSION:2.0
PRODID:Stripo.email
BEGIN:VEVENT
UID:dx-design-hub-may-i-create-bamboo-weaving-choi-hung-fan-charm-workshop-1244
DTSTAMP:20260422T161036
SUMMARY:【DX設計館 |港味手作】非遺竹編團扇掛飾工作坊
DESCRIPTION:時間：14:00 - 16:00; 費用：HK$120
LOCATION:九龍深水埗通州街280號DX設計館3樓滙館
CLASS:PUBLIC
DTSTART:20260523T000000
DTEND:20260523T000000
END:VEVENT
END:VCALENDAR