BEGIN:VCALENDAR
VERSION:2.0
PRODID:Stripo.email
BEGIN:VEVENT
UID:calligraphy-masterclass-from-calligraphy-to-neon-sketch-with-wah-gor-1179
DTSTAMP:20260424T162936
SUMMARY:華戈書法大師班 - 從字體到霓虹草圖
DESCRIPTION:時間：14:00 - 16:00; 費用：HK$80
LOCATION:九龍深水埗通州街280號DX設計館3樓滙館
CLASS:PUBLIC
DTSTART:20260322T000000
DTEND:20260322T000000
END:VEVENT
END:VCALENDAR