BEGIN:VCALENDAR
VERSION:2.0
PRODID:Stripo.email
BEGIN:VEVENT
UID:The-Barn-Precious-Matter-Exhibition-870
DTSTAMP:20260425T003800
SUMMARY:Precious Matter 展覽
DESCRIPTION:時間：星期一，星期三至日：11:00 - 19:00; 費用：免費
LOCATION:深水埗通州街280號 DX design hub 物料館 （3樓）
CLASS:PUBLIC
DTSTART:20241209T000000
DTEND:20250623T000000
END:VEVENT
END:VCALENDAR