BEGIN:VCALENDAR
VERSION:2.0
PRODID:Stripo.email
BEGIN:VEVENT
UID:GBA-Sharing-session-Fashioning-AI-and-Sensors-876
DTSTAMP:20260420T144439
SUMMARY:[大灣區創意雙周] 塑造人工智慧和感測器 - 沉浸式體驗和時尚的互動材料
DESCRIPTION:時間：11:00am – 12:00pm; 費用：免費
LOCATION:九龍深水埗通州街280號DX設計館1樓展覽廳
CLASS:PUBLIC
DTSTART:20241211T000000
DTEND:20241211T000000
END:VEVENT
END:VCALENDAR