BEGIN:VCALENDAR
VERSION:2.0
PRODID:Stripo.email
BEGIN:VEVENT
UID:DX-design-hub-Design-Elements-of-Sham-Shui-Po-892
DTSTAMP:20260425T001924
SUMMARY:設計圖埗
DESCRIPTION:時間：11:00 - 19:00; 費用：免費
LOCATION:九龍深水埗通州街280號DX設計館地下
CLASS:PUBLIC
DTSTART:20250103T000000
DTEND:20250331T000000
END:VEVENT
END:VCALENDAR