BEGIN:VCALENDAR
VERSION:2.0
PRODID:Stripo.email
BEGIN:VEVENT
UID:supporting-event-hktdc-hong-kong-international-licensing-show-944
DTSTAMP:20260420T112030
SUMMARY:支持活动 - 香港贸发局香港国际授权展
DESCRIPTION:费用：免费
LOCATION:香港会议展览中心 (展览厅5FG)
CLASS:PUBLIC
DTSTART:20250428T000000
DTEND:20250430T000000
END:VEVENT
END:VCALENDAR