BEGIN:VCALENDAR
VERSION:2.0
PRODID:Stripo.email
BEGIN:VEVENT
UID:rosewood-foundation-entrepreneurship-award-38
DTSTAMP:20260425T162905
SUMMARY:支持活动 - 2025瑰丽慈善基金创业家大奖
DESCRIPTION:费用：免费
CLASS:PUBLIC
DTSTART:20241030T000000
DTEND:20241129T000000
END:VEVENT
END:VCALENDAR