BEGIN:VCALENDAR
VERSION:2.0
PRODID:Stripo.email
BEGIN:VEVENT
UID:play-pose-pixel-digital-fashion-exhibition-1116
DTSTAMP:20260423T175119
SUMMARY:Play, Pose & Pixel起势·玩：数码时装展
DESCRIPTION:时间：星期一至四：中午12时至晚上8时 / 星期五至日：上午11时至晚上9时; 费用：免费入场
LOCATION:九龙启德AIRSIDE三楼GATE33艺文馆 
CLASS:PUBLIC
DTSTART:20251122T000000
DTEND:20251202T000000
END:VEVENT
END:VCALENDAR