BEGIN:VCALENDAR
VERSION:2.0
PRODID:Stripo.email
BEGIN:VEVENT
UID:lunar-new-year-lion-dance-performance-925
DTSTAMP:20260424T171711
SUMMARY:蛇年迎春醒狮表演
DESCRIPTION:时间：15:30 - 16:00; 费用：免费
LOCATION:The Square, G/F, DX design hub, 280 Tung Chau Street, Sham Shui Po, Kowloon
CLASS:PUBLIC
DTSTART:20250203T000000
DTEND:20250203T000000
END:VEVENT
END:VCALENDAR