BEGIN:VCALENDAR
VERSION:2.0
PRODID:Stripo.email
BEGIN:VEVENT
UID:from-memory-to-horizon-the-visual-language-of-hong-kong-tourism-1242
DTSTAMP:20260422T141451
SUMMARY:旅港维度——香港旅游的视觉语言
DESCRIPTION:时间：星期一、三至日：11:00 - 19:00 （公众假期照常开放）；逢星期二（公众假期除外）休馆
LOCATION:九龙深水埗通州街280号DX设计馆2楼设计博物馆
CLASS:PUBLIC
DTSTART:20260423T000000
DTEND:20260706T000000
END:VEVENT
END:VCALENDAR