BEGIN:VCALENDAR
VERSION:2.0
PRODID:Stripo.email
BEGIN:VEVENT
UID:everyday-plus-exhibition-curatorial-guided-tours-1018
DTSTAMP:20260422T084137
SUMMARY:「 Everyday+」展览: 常物公众导赏团
DESCRIPTION:时间：15:00 - 16:00; 17:00 - 18:00; 费用：免费
LOCATION:九龙深水埗通州街280号DX设计馆地下前馆
CLASS:PUBLIC
DTSTART:20250628T000000
DTEND:20250823T000000
END:VEVENT
END:VCALENDAR