BEGIN:VCALENDAR
VERSION:2.0
PRODID:Stripo.email
BEGIN:VEVENT
UID:easter-stamp-carving-workshop-976
DTSTAMP:20260421T162442
SUMMARY:復活节凋刻印章工作坊
DESCRIPTION:时间：14:30 - 16:30; 费用：免费
LOCATION:深水埗通州街280号DX设计馆3楼滙馆
CLASS:PUBLIC
DTSTART:20250419T000000
DTEND:20250419T000000
END:VEVENT
END:VCALENDAR