BEGIN:VCALENDAR
VERSION:2.0
PRODID:Stripo.email
BEGIN:VEVENT
UID:dx-design-hub-recycled-glass-fai-chun-workshop-1145
DTSTAMP:20260420T154508
SUMMARY:【DX设计馆】新年祝福：再生玻璃挥春工作坊
DESCRIPTION:时间：14:00 - 16:00; 费用：【30/1前报名 早鸟优惠】港币50元 (原价 港币80元)
LOCATION:九龙深水埗通州街280号DX设计馆2楼别馆
CLASS:PUBLIC
DTSTART:20260131T000000
DTEND:20260131T000000
END:VEVENT
END:VCALENDAR