BEGIN:VCALENDAR
VERSION:2.0
PRODID:Stripo.email
BEGIN:VEVENT
UID:dx-design-hub-may-i-create-bamboo-weaving-choi-hung-fan-charm-workshop-1244
DTSTAMP:20260422T141359
SUMMARY:【DX设计馆 |港味手作】非遗竹编团扇挂饰工作坊
DESCRIPTION:时间：14:00 - 16:00; 费用：HK$120
LOCATION:九龍深水埗通洲街280號DX設計館3樓汇館
CLASS:PUBLIC
DTSTART:20260523T000000
DTEND:20260523T000000
END:VEVENT
END:VCALENDAR