BEGIN:VCALENDAR
VERSION:2.0
PRODID:Stripo.email
BEGIN:VEVENT
UID:calligraphy-masterclass-from-calligraphy-to-neon-sketch-with-wah-gor-1179
DTSTAMP:20260424T193626
SUMMARY:华戈书法大师班 - 从字体到霓虹草图
DESCRIPTION:时间：14:00 - 16:00; 费用：HK$80
LOCATION:九龍深水埗通洲街280號DX設計館3樓汇館
CLASS:PUBLIC
DTSTART:20260322T000000
DTEND:20260322T000000
END:VEVENT
END:VCALENDAR