BEGIN:VCALENDAR
VERSION:2.0
PRODID:Stripo.email
BEGIN:VEVENT
UID:Bazaar-Only-Coffee-Festival-881
DTSTAMP:20260421T181252
SUMMARY:约定咖啡市集
DESCRIPTION:时间：12:00 noon - 8:00 pm; 费用：免费
LOCATION:九龙深水埗枫树街游乐场 （香港设计中心摊位：9-10号）
CLASS:PUBLIC
DTSTART:20241214T000000
DTEND:20241215T000000
END:VEVENT
END:VCALENDAR