BEGIN:VCALENDAR
VERSION:2.0
PRODID:Stripo.email
BEGIN:VEVENT
UID:takuma-fujisaki-mogols-820
DTSTAMP:20260424T224625
SUMMARY:Takuma Fujisaki’s Mogols: A Hong Kong Fashion Collaboration with FIP & DIP 
DESCRIPTION:Time: 12:00 - 19:00; Price: Free Admission
LOCATION:The Fashion-Pop G/F, DX design hub, 280 Tung Chau Street, Sham Shui Po, Kowloon
CLASS:PUBLIC
DTSTART:20241207T000000
DTEND:20250222T000000
END:VEVENT
END:VCALENDAR