BEGIN:VCALENDAR
VERSION:2.0
PRODID:Stripo.email
BEGIN:VEVENT
UID:supporting-event-hktdc-hong-kong-international-licensing-show-944
DTSTAMP:20260420T112201
SUMMARY:Supporting Event - HKTDC Hong Kong International Licensing Show (HKILS)
DESCRIPTION:Price: Free Admission
LOCATION:Hong Kong Convention and Exhibition Centre (Hall 5FG)
CLASS:PUBLIC
DTSTART:20250428T000000
DTEND:20250430T000000
END:VEVENT
END:VCALENDAR