BEGIN:VCALENDAR
VERSION:2.0
PRODID:Stripo.email
BEGIN:VEVENT
UID:rosewood-foundation-entrepreneurship-award-38
DTSTAMP:20260425T180333
SUMMARY:Supporting Event - Rosewood Foundation Entrepreneurship Award 2025
DESCRIPTION:Price: Free
CLASS:PUBLIC
DTSTART:20241030T000000
DTEND:20241129T000000
END:VEVENT
END:VCALENDAR