BEGIN:VCALENDAR
VERSION:2.0
PRODID:Stripo.email
BEGIN:VEVENT
UID:qeeboo-rabbit-chair-by-stefano-giovannoni-1127
DTSTAMP:20260421T081748
SUMMARY:'QEEBOO Rabbit'
DESCRIPTION:Time: Monday, Wednesday to Sunday: 11:00 - 19:00 (Open on Public Holidays); Closed on Tuesdays (except Public Holidays); Price: Free Admission
LOCATION:The Steps, 2/F, DX design hub, 280 Tung Chau Street, Sham Shui Po, Kowloon
CLASS:PUBLIC
DTSTART:20251211T000000
DTEND:20260407T000000
END:VEVENT
END:VCALENDAR