BEGIN:VCALENDAR
VERSION:2.0
PRODID:Stripo.email
BEGIN:VEVENT
UID:play-pose-pixel-digital-fashion-exhibition-1116
DTSTAMP:20260423T174727
SUMMARY:Play, Pose & Pixel Digital Fashion Exhibition
DESCRIPTION:Time: Monday to Thursday: 12:00-8:00pm / Friday to Sunday: 11:00am - 9:00pm; Price: Free Admission
LOCATION:Gate33 Gallery, Level 3, AIRSIDE, Kai Tak, Kowloon
CLASS:PUBLIC
DTSTART:20251122T000000
DTEND:20251202T000000
END:VEVENT
END:VCALENDAR