BEGIN:VCALENDAR
VERSION:2.0
PRODID:Stripo.email
BEGIN:VEVENT
UID:make-and-create-series-leather-pouch-workshop-1190
DTSTAMP:20260424T083956
SUMMARY:Make & create series‧Leather Pouch Workshop
DESCRIPTION:Time: 14:00-15:30 | 16:00-17:30; Price: HK$280
LOCATION:The Annex, 2/F, DX design hub, 280 Tung Chau Street, Sham Shui Po, Kowloon
CLASS:PUBLIC
DTSTART:20260425T000000
DTEND:20260425T000000
END:VEVENT
END:VCALENDAR