BEGIN:VCALENDAR
VERSION:2.0
PRODID:Stripo.email
BEGIN:VEVENT
UID:lunar-new-year-lion-dance-performance-925
DTSTAMP:20260424T184555
SUMMARY:Lunar New Year Lion Dance Performance
DESCRIPTION:Time: 15:30 - 16:00; Price: Free Admission
LOCATION:The Square, G/F, DX design hub, 280 Tung Chau Street, Sham Shui Po, Kowloon
CLASS:PUBLIC
DTSTART:20250203T000000
DTEND:20250203T000000
END:VEVENT
END:VCALENDAR