BEGIN:VCALENDAR
VERSION:2.0
PRODID:Stripo.email
BEGIN:VEVENT
UID:global-design-awards-2025-938
DTSTAMP:20260423T170552
SUMMARY:Supporting Event -  Global Design Awards 2025 (GDA 2025) 
DESCRIPTION:
CLASS:PUBLIC
DTSTART:20250212T000000
DTEND:20250224T000000
END:VEVENT
END:VCALENDAR