BEGIN:VCALENDAR
VERSION:2.0
PRODID:Stripo.email
BEGIN:VEVENT
UID:everyday-plus-exhibition-curatorial-guided-tours-1018
DTSTAMP:20260420T094208
SUMMARY:‘Everyday Plus’ Exhibition：Curatorial Guided Tours
DESCRIPTION:Time: 15:00 - 16:00; 17:00 - 18:00; Price: Free
LOCATION:The Square, G/F DX design hub, 280 Tung Chau Street, Sham Shui Po, Kowloon
CLASS:PUBLIC
DTSTART:20250628T000000
DTEND:20250823T000000
END:VEVENT
END:VCALENDAR