BEGIN:VCALENDAR
VERSION:2.0
PRODID:Stripo.email
BEGIN:VEVENT
UID:easter-stamp-carving-workshop-976
DTSTAMP:20260421T180736
SUMMARY:Easter Stamp-Carving Workshop
DESCRIPTION:Time: 14:30 - 16:30; Price: Free Admission
LOCATION:The Lounge, 3/F, DX design hub, 280 Tung Chau Street, Sham Shui Po, Kowloon
CLASS:PUBLIC
DTSTART:20250419T000000
DTEND:20250419T000000
END:VEVENT
END:VCALENDAR