BEGIN:VCALENDAR
VERSION:2.0
PRODID:Stripo.email
BEGIN:VEVENT
UID:dx-design-hub-recycled-glass-fai-chun-workshop-1145
DTSTAMP:20260420T141326
SUMMARY:【DX design hub】Recycled Glass Fai Chun Workshop
DESCRIPTION:Time: 14:00 - 16:00; Price: [Early Bird Offer for registrations before 30/1] HKD 50 (Original Price: HKD 80)
LOCATION:The Annex, 2/F, DX design hub, 280 Tung Chau Street, Sham Shui Po, Kowloon
CLASS:PUBLIC
DTSTART:20260131T000000
DTEND:20260131T000000
END:VEVENT
END:VCALENDAR