BEGIN:VCALENDAR
VERSION:2.0
PRODID:Stripo.email
BEGIN:VEVENT
UID:dx-design-hub-may-i-create-capture-hong-kong-photo-montage-workshop-1243
DTSTAMP:20260422T160841
SUMMARY:【DX design hub | May I Create?】Capture Hong Kong Photo Montage Workshop
DESCRIPTION:Time: 14:00 - 16:00; Price: HK$120
LOCATION:The Lounge 3/F, DX design hub, 280 Tung Chau Street, Sham Shui Po, Kowloon
CLASS:PUBLIC
DTSTART:20260509T000000
DTEND:20260509T000000
END:VEVENT
END:VCALENDAR