BEGIN:VCALENDAR
VERSION:2.0
PRODID:Stripo.email
BEGIN:VEVENT
UID:dx-design-hub-may-i-create-bamboo-weaving-choi-hung-fan-charm-workshop-1244
DTSTAMP:20260422T161653
SUMMARY:【DX design hub | May I Create?】Bamboo Weaving "Choi Hung" Fan Charm Workshop
DESCRIPTION:Time: 14:00 - 16:00; Price: HK$120
LOCATION:The Lounge 3/F, DX design hub, 280 Tung Chau Street, Sham Shui Po, Kowloon
CLASS:PUBLIC
DTSTART:20260523T000000
DTEND:20260523T000000
END:VEVENT
END:VCALENDAR