BEGIN:VCALENDAR
VERSION:2.0
PRODID:Stripo.email
BEGIN:VEVENT
UID:calligraphy-masterclass-from-calligraphy-to-neon-sketch-with-wah-gor-1179
DTSTAMP:20260424T180750
SUMMARY:Calligraphy Masterclass - From Calligraphy to Neon Sketch with Wah Gor
DESCRIPTION:Time: 14:00 - 16:00; Price: HK$80
LOCATION:The Chamber, 3/F, DX design hub, 280 Tung Chau Street, Sham Shui Po, Kowloon
CLASS:PUBLIC
DTSTART:20260322T000000
DTEND:20260322T000000
END:VEVENT
END:VCALENDAR