BEGIN:VCALENDAR
VERSION:2.0
PRODID:Stripo.email
BEGIN:VEVENT
UID:being-825
DTSTAMP:20260424T230123
SUMMARY:BEing 
DESCRIPTION:Time: 11:00 - 19:00; Price: Free Admission
LOCATION:The Atrium, DX design hub, 280 Tung Chau Street, Sham Shui Po, Kowloon
CLASS:PUBLIC
DTSTART:20241203T000000
DTEND:20250731T000000
END:VEVENT
END:VCALENDAR