BEGIN:VCALENDAR
VERSION:2.0
PRODID:Stripo.email
BEGIN:VEVENT
UID:The-Barn-Precious-Matter-Exhibition-870
DTSTAMP:20260424T224702
SUMMARY:Precious Matter Exhibition
DESCRIPTION:Time: MON, WED-SUN: 11:00am – 19:00pm; Price: Free
LOCATION:The Barn 3/F, DX design hub, 280 Tung Chau Street, Sham Shui Po, Kowloon
CLASS:PUBLIC
DTSTART:20241209T000000
DTEND:20250623T000000
END:VEVENT
END:VCALENDAR