BEGIN:VCALENDAR
VERSION:2.0
PRODID:Stripo.email
BEGIN:VEVENT
UID:GBA-Sharing-session-Fashioning-AI-and-Sensors-876
DTSTAMP:20260420T161613
SUMMARY:[GBA Creative Fortnight] Fashioning AI and Sensors: Interactive materials for immersive experiences and fashion
DESCRIPTION:Time: 11:00am – 12:00pm; Price: Free Admission
LOCATION:The Gallery, 1/F, DX design hub, 280 Tung Chau Street, Sham Shui Po, Kowloon
CLASS:PUBLIC
DTSTART:20241211T000000
DTEND:20241211T000000
END:VEVENT
END:VCALENDAR